BEGIN:VCALENDAR
PRODID:-//github.com/rianjs/ical.net//NONSGML ical.net 4.0//EN
VERSION:2.0
BEGIN:VEVENT
DESCRIPTION:Nasjonale prøver engelsk 5b
DTEND:20161021T100000
DTSTAMP:20260421T165955Z
DTSTART:20161021T083000
SEQUENCE:0
SUMMARY:Nasjonale prøver engelsk 5b
UID:162f3bba-ce41-4a18-ba9b-bea8c62050cb
END:VEVENT
END:VCALENDAR
