BEGIN:VCALENDAR
PRODID:-//github.com/rianjs/ical.net//NONSGML ical.net 4.0//EN
VERSION:2.0
BEGIN:VEVENT
DESCRIPTION:Nasjonale prøver engelsk 5a
DTEND:20161025T100000
DTSTAMP:20260421T165138Z
DTSTART:20161025T083000
SEQUENCE:0
SUMMARY:Nasjonale prøver engelsk 5a
UID:e982d7de-cb5a-4641-a8ca-36005bcb91aa
END:VEVENT
END:VCALENDAR
